BEGIN:VCALENDAR
PRODID:-//Pixl8//Eventfolio//EN
VERSION:2.0
X-WR-TIMEZONE:Europe/London
CALSCALE:GREGORIAN
METHOD:PUBLISH
CLASS:PUBLIC
BEGIN:VTIMEZONE
TZID:Europe/London
LAST-MODIFIED:20260306T231828Z
TZURL:https://www.tzurl.org/zoneinfo-outlook/Europe/London
X-LIC-LOCATION:Europe/London
BEGIN:DAYLIGHT
TZNAME:BST
TZOFFSETFROM:+0000
TZOFFSETTO:+0100
DTSTART:19700329T010000
RRULE:FREQ=YEARLY;BYMONTH=3;BYDAY=-1SU
END:DAYLIGHT
BEGIN:STANDARD
TZNAME:GMT
TZOFFSETFROM:+0100
TZOFFSETTO:+0000
DTSTART:19701025T020000
RRULE:FREQ=YEARLY;BYMONTH=10;BYDAY=-1SU
END:STANDARD
END:VTIMEZONE
BEGIN:VEVENT
DTSTART;TZID=Europe/London:20201208T180000
DTEND;TZID=Europe/London:20201208T190000
DTSTAMP:20260424T044048Z
UID:{EB4EE93A-D3F5-4E0C-B5F700AD6B369FFA}
LOCATION:
SUMMARY:Annual Members Meeting 2020 - ICS Members Only
DESCRIPTION:The Annual Members Meeting (AMM) of the ICS&#160; - open to all members.\n
 \n
 Event details: https://ics.ac.uk/events/calendar/annual-members-meeting-2020---ics-members-only-WEBAMM.html
PRIORITY:1
END:VEVENT
END:VCALENDAR