BEGIN:VCALENDAR
PRODID:-//Pixl8//Eventfolio//EN
VERSION:2.0
X-WR-TIMEZONE:Europe/London
CALSCALE:GREGORIAN
METHOD:PUBLISH
CLASS:PUBLIC
BEGIN:VTIMEZONE
TZID:Europe/London
LAST-MODIFIED:20260306T231828Z
TZURL:https://www.tzurl.org/zoneinfo-outlook/Europe/London
X-LIC-LOCATION:Europe/London
BEGIN:DAYLIGHT
TZNAME:BST
TZOFFSETFROM:+0000
TZOFFSETTO:+0100
DTSTART:19700329T010000
RRULE:FREQ=YEARLY;BYMONTH=3;BYDAY=-1SU
END:DAYLIGHT
BEGIN:STANDARD
TZNAME:GMT
TZOFFSETFROM:+0100
TZOFFSETTO:+0000
DTSTART:19701025T020000
RRULE:FREQ=YEARLY;BYMONTH=10;BYDAY=-1SU
END:STANDARD
END:VTIMEZONE
BEGIN:VEVENT
DTSTART;TZID=Europe/London:20220628T090000
DTEND;TZID=Europe/London:20220628T170000
DTSTAMP:20260423T175431Z
UID:{4DEFC219-19CF-4AA0-A22B8267F2F1A474}
LOCATION:
SUMMARY:Advanced Ultrasound
DESCRIPTION:Our FUSIC (Focused Ultrasound for Intensive Care) team will be delivering our advanced ultrasound course for intensive care, designed to take your ultrasound skills to the next level.\n
 \n
 Event details: https://ics.ac.uk/events/calendar/advanced-ultrasound-SOAFUSIC.html
PRIORITY:1
END:VEVENT
END:VCALENDAR