BEGIN:VCALENDAR
PRODID:-//Pixl8//Eventfolio//EN
VERSION:2.0
X-WR-TIMEZONE:Europe/London
CALSCALE:GREGORIAN
METHOD:PUBLISH
CLASS:PUBLIC
BEGIN:VTIMEZONE
TZID:Europe/London
LAST-MODIFIED:20260306T231828Z
TZURL:https://www.tzurl.org/zoneinfo-outlook/Europe/London
X-LIC-LOCATION:Europe/London
BEGIN:DAYLIGHT
TZNAME:BST
TZOFFSETFROM:+0000
TZOFFSETTO:+0100
DTSTART:19700329T010000
RRULE:FREQ=YEARLY;BYMONTH=3;BYDAY=-1SU
END:DAYLIGHT
BEGIN:STANDARD
TZNAME:GMT
TZOFFSETFROM:+0100
TZOFFSETTO:+0000
DTSTART:19701025T020000
RRULE:FREQ=YEARLY;BYMONTH=10;BYDAY=-1SU
END:STANDARD
END:VTIMEZONE
BEGIN:VEVENT
DTSTART;TZID=Europe/London;VALUE=DATE:20191208
DTEND;TZID=Europe/London;VALUE=DATE:20191209
DTSTAMP:20260423T140554Z
UID:{12D18F32-C124-460A-84B361F87FE3EB28}
LOCATION:ICC Birmingham\, The ICC Birmingham 8 Centenary Square\, Birmingham\, B1 2EA
SUMMARY:Advanced Ultrasound
DESCRIPTION:Corresponding with the launch of FUSIC (Focused Ultrasound for Intensive Care) - the merger of FICE and CUSIC programmes - the ICS are proud to offer this exciting advanced ultrasound course for Intensive Care Medicine, designed to take your ultrasound skills to the next level. It will introduce how to assess haemodynamics (circulatory pressures, flow and resistance), abdominal organs (kidneys, liver, gallbladder and bowel), advanced lung, the airway and an introduction to the brain (optic nerve diameter and TCD to identify raised ICP) and TOE.\n
 \n
 Event details: https://ics.ac.uk/events/calendar/advanced-ultrasound-FUSIC19.html
PRIORITY:1
END:VEVENT
END:VCALENDAR